BEGIN:VCALENDAR
PRODID:-//eluceo/ical//2.0/EN
VERSION:2.0
CALSCALE:GREGORIAN
BEGIN:VEVENT
UID:576709212c0a9c57af54e73107f16715
DTSTAMP:20260422T115349Z
SUMMARY:TS Offices Closed
DESCRIPTION:Jewish Federation of Greater Naples\nCommunity Calendar\nhttps:
 //jewishnaples.org/calendar/temple-shalom-offices-closed-1557771817\n\nTem
 ple Shalom Offices Closed
DTSTART;TZID=America/New_York:20190930T090000
DTEND;TZID=America/New_York:20190930T235900
END:VEVENT
END:VCALENDAR
