BEGIN:VCALENDAR
PRODID:-//eluceo/ical//2.0/EN
VERSION:2.0
CALSCALE:GREGORIAN
BEGIN:VEVENT
UID:f46496531acd1d773ae10524dea98edd
DTSTAMP:20260424T062301Z
SUMMARY:TS Offices Closed
DESCRIPTION:Jewish Federation of Greater Naples\nCommunity Calendar\nhttps:
 //jewishnaples.org/calendar/temple-shalom-offices-closed-1557760696\n\nTem
 ple Shalom Offices closed for holiday
DTSTART;TZID=America/New_York:20190705T090000
DTEND;TZID=America/New_York:20190705T235900
END:VEVENT
END:VCALENDAR
