BEGIN:VCALENDAR
PRODID:-//eluceo/ical//2.0/EN
VERSION:2.0
CALSCALE:GREGORIAN
BEGIN:VEVENT
UID:7839236844b63b6e8cec3531acd8b7b0
DTSTAMP:20260423T183604Z
SUMMARY:Temple Shalom offices closed
DESCRIPTION:Jewish Federation of Greater Naples\nCommunity Calendar\nhttps:
 //jewishnaples.org/calendar/temple-shalom-offices-closed-1495373621\n\nTem
 ple Shalom offices closed for Tish'ah b'Av
DTSTART;TZID=America/New_York:20170801T083000
DTEND;TZID=America/New_York:20170801T170000
END:VEVENT
END:VCALENDAR
