BEGIN:VCALENDAR
PRODID:-//eluceo/ical//2.0/EN
VERSION:2.0
CALSCALE:GREGORIAN
BEGIN:VEVENT
UID:6b02f856a190c86e0263111d1e7372c8
DTSTAMP:20260422T232530Z
SUMMARY:Temple Shalom Mitzvah Day
DESCRIPTION:Jewish Federation of Greater Naples\nCommunity Calendar\nhttps:
 //jewishnaples.org/calendar/temple-shalom-mitzvah-day-1524063578\n\nMitzva
 h Day
DTSTART;TZID=America/New_York:20190210T090000
DTEND;TZID=America/New_York:20190210T110000
END:VEVENT
END:VCALENDAR
