BEGIN:VCALENDAR
PRODID:-//eluceo/ical//2.0/EN
VERSION:2.0
CALSCALE:GREGORIAN
BEGIN:VEVENT
UID:a5f5262b273836a601e3eeaaa9453dfa
DTSTAMP:20260420T150834Z
SUMMARY:Temple Shalom Men's Club Dinner Theatre
DESCRIPTION:Jewish Federation of Greater Naples\nCommunity Calendar\nhttps:
 //jewishnaples.org/calendar/temple-shalom-mens-club-dinner-theatre-1509991
 022\n\nDinner and Show at Broadway Palm Dinner Theatre\nMAMMA MIA
DTSTART;TZID=America/New_York:20180217T000000
DTEND;TZID=America/New_York:20180217T235959
END:VEVENT
END:VCALENDAR
