BEGIN:VCALENDAR
PRODID:-//eluceo/ical//2.0/EN
VERSION:2.0
CALSCALE:GREGORIAN
BEGIN:VEVENT
UID:96a80ba6f37d4de2ea0ea1b43cebfd68
DTSTAMP:20260423T052653Z
SUMMARY:Temple Shalom Megillah Reading
DESCRIPTION:Jewish Federation of Greater Naples\nCommunity Calendar\nhttps:
 //jewishnaples.org/calendar/temple-shalom-megillah-reading-1681325900\n\nT
 emple Shalom Megillah Reading
DTSTART;TZID=America/New_York:20240324T090000
DTEND;TZID=America/New_York:20240324T100000
END:VEVENT
END:VCALENDAR
