BEGIN:VCALENDAR
PRODID:-//eluceo/ical//2.0/EN
VERSION:2.0
CALSCALE:GREGORIAN
BEGIN:VEVENT
UID:64e4f50136d2a29c293d381571d252f3
DTSTAMP:20260421T042514Z
SUMMARY:Temple Shalom Evening Shabbat Service
DESCRIPTION:Jewish Federation of Greater Naples\nCommunity Calendar\nhttps:
 //jewishnaples.org/calendar/temple-shalom-evening-shabbat-service\n\nFrida
 y night Shabbat Services at Temple Shalom
DTSTART;TZID=America/New_York:20160701T193000
DTEND;TZID=America/New_York:20160701T193000
END:VEVENT
END:VCALENDAR
