BEGIN:VCALENDAR
PRODID:-//eluceo/ical//2.0/EN
VERSION:2.0
CALSCALE:GREGORIAN
BEGIN:VEVENT
UID:5865a7d5f9d037d6d97a1c01b0245fc6
DTSTAMP:20260422T120935Z
SUMMARY:Temple Shalom Cabaret Night
DESCRIPTION:Jewish Federation of Greater Naples\nCommunity Calendar\nhttps:
 //jewishnaples.org/calendar/temple-shalom-cabaret-night-1521749187\n\nCome
  to the Cabaret! Live music\, delicious desserts and wine.\nRSVP required
DTSTART;TZID=America/New_York:20181216T190000
DTEND;TZID=America/New_York:20181216T210000
END:VEVENT
END:VCALENDAR
