BEGIN:VCALENDAR
PRODID:-//eluceo/ical//2.0/EN
VERSION:2.0
CALSCALE:GREGORIAN
BEGIN:VEVENT
UID:494d1794b221228c39022256ec901d03
DTSTAMP:20260421T042643Z
SUMMARY:Temple Shalom Artist-in-Residence Weekend
DESCRIPTION:Jewish Federation of Greater Naples\nCommunity Calendar\nhttps:
 //jewishnaples.org/calendar/temple-shalom-artist-in-residence-weekend-1681
 325747\n\nTemple Shalom Artist-in-Residence Weekend
DTSTART;TZID=America/New_York:20240209T193000
DTEND;TZID=America/New_York:20240211T093000
END:VEVENT
END:VCALENDAR
