BEGIN:VCALENDAR
PRODID:-//eluceo/ical//2.0/EN
VERSION:2.0
CALSCALE:GREGORIAN
BEGIN:VEVENT
UID:71a0a987800e4382adc437ca1c1647e8
DTSTAMP:20260423T191234Z
SUMMARY:TED Talks
DESCRIPTION:Jewish Federation of Greater Naples\nCommunity Calendar\nhttps:
 //jewishnaples.org/calendar/ted-talks-1586113862\n\nHow to Make Stress You
 r FriendStress. It makes your heart pound\, your breathing quicken and you
 r forehead sweat. But while stress has been made into a public health enem
 y\, new research suggests that stress may only be bad for you if you belie
 ve that to be the case. Psychologist Kelly McGonigal urges us to see stres
 s as a positive\, and introduces us to an unsung mechanism for stress redu
 ction: reaching out to others.We will watch the TED Talk clip and discuss 
 this topic on Friday\, April 17 fro...
DTSTART;TZID=America/New_York:20200417T093000
DTEND;TZID=America/New_York:20200417T103000
END:VEVENT
END:VCALENDAR
