BEGIN:VCALENDAR
PRODID:-//eluceo/ical//2.0/EN
VERSION:2.0
CALSCALE:GREGORIAN
BEGIN:VEVENT
UID:5327a4b20879dbf12b926cbcbf14e3d6
DTSTAMP:20260420T205115Z
SUMMARY:Tax Smart Giving Strategies
DESCRIPTION:Jewish Federation of Greater Naples\nCommunity Calendar\nhttps:
 //jewishnaples.org/calendar/tax-smart-giving-strategies-1738240398\n\n
DTSTART;TZID=America/New_York:20250403T113000
DTEND;TZID=America/New_York:20250403T133000
END:VEVENT
END:VCALENDAR
