BEGIN:VCALENDAR
PRODID:-//eluceo/ical//2.0/EN
VERSION:2.0
CALSCALE:GREGORIAN
BEGIN:VEVENT
UID:b02b20eccfc7c1b4211b4e77f6675c9f
DTSTAMP:20260422T212110Z
SUMMARY:Tai Chi Simple at Naples Jewish Congregation
DESCRIPTION:Jewish Federation of Greater Naples\nCommunity Calendar\nhttps:
 //jewishnaples.org/calendar/tai-chi-simple-at-naples-jewish-congregation-1
 715002298\n\nJoin Susan at 1:30 for the Tai Chi Simple class. She is a car
 ing\, respectful and inspiring instructor. The class is 45 minutes long an
 d you just have to bring comfortable clothes and a vibrant spirit.\n 6340 
 Napa Woods Way\, Naples FL. 34116\nDon’t miss it\, donations are welcome
 d.
DTSTART;TZID=America/New_York:20240513T133000
DTEND;TZID=America/New_York:20240513T153000
END:VEVENT
END:VCALENDAR
