BEGIN:VCALENDAR
PRODID:-//eluceo/ical//2.0/EN
VERSION:2.0
CALSCALE:GREGORIAN
BEGIN:VEVENT
UID:aae49329ace7305d2c69c2ae59a10e12
DTSTAMP:20260423T191450Z
SUMMARY:Tai Chi
DESCRIPTION:Jewish Federation of Greater Naples\nCommunity Calendar\nhttps:
 //jewishnaples.org/calendar/tai-chi-1719333790\n\nTAI CHI SIMPLE- A REVITA
 LIZING AND EMPOWERING PRACTICE\nWith Instructor Susan\n\nTuesday\, August 
 6 and August 13 from 10:00-10:45 am\nRegister for one or both free Tai Chi
  Classes\nNina Iser Jewish Cultural Center\n\nSusan Gold Falkenstein\, Ins
 tructor\, A practitioner and teacher for 13 years in the nourishing and lo
 ngevity practices of Tai Chi and Qigong\n\nTai Chi Simple is based on the 
 ancient Chinese health promotion practices of Tai Chi and Qigong\, This cl
 ass will help you become more sup...
DTSTART;TZID=America/New_York:20240813T100000
DTEND;TZID=America/New_York:20240813T104500
END:VEVENT
END:VCALENDAR
