BEGIN:VCALENDAR
PRODID:-//eluceo/ical//2.0/EN
VERSION:2.0
CALSCALE:GREGORIAN
BEGIN:VEVENT
UID:c18263c0fdf1399dd93614c99a8bde93
DTSTAMP:20260424T190211Z
SUMMARY:SWIC Rally
DESCRIPTION:Jewish Federation of Greater Naples\nCommunity Calendar\nhttps:
 //jewishnaples.org/calendar/swic-rally-1735933894\n\nSolidarity With Israe
 l Coalition Rally\nThursday from 3:30 to 5:30 pm
DTSTART;TZID=America/New_York:20250320T153000
DTEND;TZID=America/New_York:20250320T173000
END:VEVENT
END:VCALENDAR
