BEGIN:VCALENDAR
PRODID:-//eluceo/ical//2.0/EN
VERSION:2.0
CALSCALE:GREGORIAN
BEGIN:VEVENT
UID:ef4617530942e9bb9767b3101424a7c1
DTSTAMP:20260423T174724Z
SUMMARY:Summer Time Lunch Swap
DESCRIPTION:Jewish Federation of Greater Naples\nCommunity Calendar\nhttps:
 //jewishnaples.org/calendar/summer-time-lunch-swap-1717512224\n\nBeat the 
 heat\, bring your favorite summertime lunch and swap recipes.\n\nShare mar
 inades\, Salads\, sandwiches\, drinks\, or desserts.\n\nFriday July 19th a
 t 12:00 pm.
DTSTART;TZID=America/New_York:20240719T120000
DTEND;TZID=America/New_York:20240719T140000
END:VEVENT
END:VCALENDAR
