BEGIN:VCALENDAR
PRODID:-//eluceo/ical//2.0/EN
VERSION:2.0
CALSCALE:GREGORIAN
BEGIN:VEVENT
UID:0e241c57dce564c351494a90076d8fe4
DTSTAMP:20260421T065755Z
SUMMARY:Summer Book Discussion with Dan Petrosini
DESCRIPTION:Jewish Federation of Greater Naples\nCommunity Calendar\nhttps:
 //jewishnaples.org/calendar/summer-book-discussion-with-dan-petrosini\n\nS
 ummer Book Discussion with the Author\nFriday\, July 26 at 11 AM\n\nPlease
  register for this free event.\n\n \n\nBuried at the Lake by Dan Petrosin
 i\nPurchase the book on Amazon https://amzn.to/4bQTdSo\n\nThe presumption 
 was murder.\nEveryone assumed they knew the killer…\n…but what if they
  were wrong about the crime?\nIt was the most beautiful house on the lake.
  When a girl’s remains are found on the property\, Bill Miller seems to 
 know something. For ten years\, there had been whispers...
DTSTART;TZID=America/New_York:20240726T110000
DTEND;TZID=America/New_York:20240726T120000
END:VEVENT
END:VCALENDAR
