BEGIN:VCALENDAR
PRODID:-//eluceo/ical//2.0/EN
VERSION:2.0
CALSCALE:GREGORIAN
BEGIN:VEVENT
UID:3fb9b530baa133d85a0869e98c356215
DTSTAMP:20260424T060443Z
SUMMARY:Summer Birthday Party
DESCRIPTION:Jewish Federation of Greater Naples\nCommunity Calendar\nhttps:
 //jewishnaples.org/calendar/summer-birthday-party-1719591220\n\nCelebrate 
 Summer Birthdays with Us!\nMonday\, August 19\n12:30-2:30 PM\nNina Iser Je
 wish Cultural Center\n\n \n\nJoin us for an unforgettable summer birthday
  celebration filled with sunshine\, laughter\, ice cream and good vibes!\n
 \nWe will play “The White Elephant Gift Exchange”\, so please bring a 
 wrapped present.\n(Please keep the gift under $20)\n\n \n\nRSVP Today for
  this free program! Don't miss out on this summer birthday extravaganza.\n
 Let's make this summer birthday one to remember!
DTSTART;TZID=America/New_York:20240819T123000
DTEND;TZID=America/New_York:20240819T143000
END:VEVENT
END:VCALENDAR
