BEGIN:VCALENDAR
PRODID:-//eluceo/ical//2.0/EN
VERSION:2.0
CALSCALE:GREGORIAN
BEGIN:VEVENT
UID:41c97454a546901b4317a1d0ebbeccce
DTSTAMP:20260424T094605Z
SUMMARY:Soulful Shabbat
DESCRIPTION:Jewish Federation of Greater Naples\nCommunity Calendar\nhttps:
 //jewishnaples.org/calendar/soulful-shabbat-1525958388\n\nA Shabbat servic
 e conducted entirely in song\, accompanied by a professional band.
DTSTART;TZID=America/New_York:20181019T193000
DTEND;TZID=America/New_York:20181019T203000
END:VEVENT
END:VCALENDAR
