BEGIN:VCALENDAR
PRODID:-//eluceo/ical//2.0/EN
VERSION:2.0
CALSCALE:GREGORIAN
BEGIN:VEVENT
UID:d8f95c0d6bd1a2600130d6549b79fd6a
DTSTAMP:20260422T115203Z
SUMMARY:Singles Social Group Pizza Party
DESCRIPTION:Jewish Federation of Greater Naples\nCommunity Calendar\nhttps:
 //jewishnaples.org/calendar/singles-social-group-pizza-party-1712404176\n\
 nSingles Social Group\nPizza Party\nFriday\, June 21\n12-2 PM\n$10 per per
 son\nCome meet new people and enjoy pizza!\nNina Iser Jewish Cultural Cent
 er
DTSTART;TZID=America/New_York:20240621T120000
DTEND;TZID=America/New_York:20240621T140000
END:VEVENT
END:VCALENDAR
