BEGIN:VCALENDAR
PRODID:-//eluceo/ical//2.0/EN
VERSION:2.0
CALSCALE:GREGORIAN
BEGIN:VEVENT
UID:fec0fac6e1fbb4e87ba5a3be2d7dc337
DTSTAMP:20260423T102251Z
SUMMARY:Singles Pot Luck Lunch
DESCRIPTION:Jewish Federation of Greater Naples\nCommunity Calendar\nhttps:
 //jewishnaples.org/calendar/singles-pot-luck-lunch-1719592037\n\nSingles S
 ocial Group\nCome to the Pot Luck Lunch.\nYou can buy an item or make it.\
 nRSVP and let us know what you are bringing!
DTSTART;TZID=America/New_York:20240726T120000
DTEND;TZID=America/New_York:20240726T140000
END:VEVENT
END:VCALENDAR
