BEGIN:VCALENDAR
PRODID:-//eluceo/ical//2.0/EN
VERSION:2.0
CALSCALE:GREGORIAN
BEGIN:VEVENT
UID:8d13f87b8ef6ce90061d30579267d10b
DTSTAMP:20260420T073828Z
SUMMARY:Singles Pizza Party and Gift Exchange
DESCRIPTION:Jewish Federation of Greater Naples\nCommunity Calendar\nhttps:
 //jewishnaples.org/calendar/singles-pizza-party-and-gift-exchange-17260797
 99\n\nLooking for a fun\, relaxed afternoon with great company and delicio
 us pizza?\nJoin us for our Singles Pizza Party! It’s a perfect opportuni
 ty to meet new friends\, enjoy pizza\, and have a great time.\nMonday\, Oc
 tober 21st at 12:00 PM\nNina Iser Jewish Cultural Center\n$10 to cover the
  cost of the pizza.\n \n\nPlease Bring:\n• Your lovely self and a big s
 mile! 😊\n• Optional: A small dessert or snack to share\n• We will p
 lay “The White Elephant Gift Exchange”\, so please bring a w...
DTSTART;TZID=America/New_York:20241021T120000
DTEND;TZID=America/New_York:20241021T130000
END:VEVENT
END:VCALENDAR
