BEGIN:VCALENDAR
PRODID:-//eluceo/ical//2.0/EN
VERSION:2.0
CALSCALE:GREGORIAN
BEGIN:VEVENT
UID:b38bc204b86a69d807e581a3317d3c47
DTSTAMP:20260423T162751Z
SUMMARY:Singles Pizza and Ping Pong
DESCRIPTION:Jewish Federation of Greater Naples\nCommunity Calendar\nhttps:
 //jewishnaples.org/calendar/singles-pizza-and-ping-pong-1721679114\n\nJoin
  us for Pizza and Ping Pong!\nSingles Social Group is for members who are 
 55 and up.
DTSTART;TZID=America/New_York:20240912T120000
DTEND;TZID=America/New_York:20240912T140000
END:VEVENT
END:VCALENDAR
