BEGIN:VCALENDAR
PRODID:-//eluceo/ical//2.0/EN
VERSION:2.0
CALSCALE:GREGORIAN
BEGIN:VEVENT
UID:b0ddaad3dc7e9a2a8c09634b6d62d895
DTSTAMP:20260420T030321Z
SUMMARY:Singles Friendship Potluck Lunch
DESCRIPTION:Jewish Federation of Greater Naples\nCommunity Calendar\nhttps:
 //jewishnaples.org/calendar/singles-friendship-potluck-lunch-1730995547\n\
 nWelcome Singles!\n\n \n\nLet’s get together for a fun and relaxed potl
 uck lunch before the holiday rush! Whether you're new to the area\, lookin
 g to meet new people\, or just want to enjoy good food and great company\,
  this is the perfect chance to gather with other singles and celebrate the
  season of gratitude.\nNovember 25th at 12:00 PM\n\nPlease RSVP with what 
 you plan on bringing
DTSTART;TZID=America/New_York:20241125T120000
DTEND;TZID=America/New_York:20241125T130000
END:VEVENT
END:VCALENDAR
