BEGIN:VCALENDAR
PRODID:-//eluceo/ical//2.0/EN
VERSION:2.0
CALSCALE:GREGORIAN
BEGIN:VEVENT
UID:4917427e9cad43c5e8f3b2a20b25f7b4
DTSTAMP:20260422T194929Z
SUMMARY:JCMI SIDNEY R. HOFFMAN MEMORIAL JEWISH FILM FESTIVAL
DESCRIPTION:Jewish Federation of Greater Naples\nCommunity Calendar\nhttps:
 //jewishnaples.org/calendar/sidney-r-hoffman-memorial-jewish-film-festival
 -1620915207\n\nOUR 21ST SEASON OF PRESENTING THE NEWEST AND BEST AWARD-WIN
 NING FILMS ON THE JEWISH CIRCUIT\n\n \n\n 
DTSTART;TZID=America/New_York:20220109T140000
DTEND;TZID=America/New_York:20220109T160000
END:VEVENT
END:VCALENDAR
