BEGIN:VCALENDAR
PRODID:-//eluceo/ical//2.0/EN
VERSION:2.0
CALSCALE:GREGORIAN
BEGIN:VEVENT
UID:35f2837adaecc53dea20e46bc2b7eb6c
DTSTAMP:20260424T011701Z
SUMMARY:Shabbat with Uri Feinberg
DESCRIPTION:Jewish Federation of Greater Naples\nCommunity Calendar\nhttps:
 //jewishnaples.org/calendar/shabbat-with-uri-feinberg-1714570663\n\n
DTSTART;TZID=America/New_York:20240517T190000
DTEND;TZID=America/New_York:20240518T140000
END:VEVENT
END:VCALENDAR
