BEGIN:VCALENDAR
PRODID:-//eluceo/ical//2.0/EN
VERSION:2.0
CALSCALE:GREGORIAN
BEGIN:VEVENT
UID:6505e71dec37d596426652507a8a63fd
DTSTAMP:20260422T010343Z
SUMMARY:Shabbat Service at TS- JFGN
DESCRIPTION:Jewish Federation of Greater Naples\nCommunity Calendar\nhttps:
 //jewishnaples.org/calendar/shabbat-service-at-ts-jfgn\n\nTS Shabbat Servi
 ce - Jewish Federation of Greater Naples
DTSTART;TZID=America/New_York:20190111T193000
DTEND;TZID=America/New_York:20190111T213000
END:VEVENT
END:VCALENDAR
