BEGIN:VCALENDAR
PRODID:-//eluceo/ical//2.0/EN
VERSION:2.0
CALSCALE:GREGORIAN
BEGIN:VEVENT
UID:dd25e430fb8dd361ae7501dbfaba2f7a
DTSTAMP:20260424T031623Z
SUMMARY:Sell your jewelry and more
DESCRIPTION:Jewish Federation of Greater Naples\nCommunity Calendar\nhttps:
 //jewishnaples.org/calendar/sell-your-jewelry-and-more-1741945593\n\nSell 
 your items between 10am-3 pm on Monday\, April 7
DTSTART;TZID=America/New_York:20250407T100000
DTEND;TZID=America/New_York:20250407T150000
END:VEVENT
END:VCALENDAR
