BEGIN:VCALENDAR
PRODID:-//eluceo/ical//2.0/EN
VERSION:2.0
CALSCALE:GREGORIAN
BEGIN:VEVENT
UID:7e68e21cd4dbb8e614d0ce0988c568f3
DTSTAMP:20260423T093046Z
SUMMARY:Sell your gold\, silver and other metals
DESCRIPTION:Jewish Federation of Greater Naples\nCommunity Calendar\nhttps:
 //jewishnaples.org/calendar/sell-your-gold-silver-and-other-metals-1732285
 664\n\nSell your gold\, silver and other metals
DTSTART;TZID=America/New_York:20250123T100000
DTEND;TZID=America/New_York:20250124T140000
END:VEVENT
END:VCALENDAR
