BEGIN:VCALENDAR
PRODID:-//eluceo/ical//2.0/EN
VERSION:2.0
CALSCALE:GREGORIAN
BEGIN:VEVENT
UID:612e26fef0e00571d6783b32b50e3af0
DTSTAMP:20260422T152759Z
SUMMARY:Sell your Gold
DESCRIPTION:Jewish Federation of Greater Naples\nCommunity Calendar\nhttps:
 //jewishnaples.org/calendar/sell-your-gold-1717174360\n\nWOULD YOU LIKE SO
 ME FAST EASY CASH?\n\nDo you have gold\, platinum\, silver\, or diamond je
 welry that you no longer want or need? Have jewelry that is outdated\, ugl
 y\, broken\, mismatched\, or the wrong color? You can immediately turn it 
 into useful green cash\, which is always the right color!\n\nJust bring in
  all your unwanted jewelry. Lew will buy everything in any condition in pr
 ecious metals and gemstones. Any color or karat of gold\, platinum\, silve
 r\, or even diamonds for cash right on the spot...
DTSTART;TZID=America/New_York:20241120T110000
DTEND;TZID=America/New_York:20241121T170000
END:VEVENT
END:VCALENDAR
