BEGIN:VCALENDAR
PRODID:-//eluceo/ical//2.0/EN
VERSION:2.0
CALSCALE:GREGORIAN
BEGIN:VEVENT
UID:7bb0552913d4b5e4e9b52b3baeaa666d
DTSTAMP:20260423T221744Z
SUMMARY:Self Defense for Women
DESCRIPTION:Jewish Federation of Greater Naples\nCommunity Calendar\nhttps:
 //jewishnaples.org/calendar/self-defense-for-women-1722622252\n\nLadies\, 
 you are all welcome to learn Self Defense with Instructor Jill Newman\, ow
 ner of Naples Family Martial Arts. All the classes listed below will be of
 fered at the Nina Iser Jewish Cultural Center. Come learn techniques and m
 aneuvers to feel safe. Jill Newman is a 2nd degree Black Belt who has spen
 t the past 5 years teaching kids and adults of all ages how to defend them
 selves.\n\nTrial class on Monday\, November 4 from 11:00-11:30 am.\nCome l
 earn the different ways to defend yourselves. T...
DTSTART;TZID=America/New_York:20241104T110000
DTEND;TZID=America/New_York:20241104T113000
END:VEVENT
END:VCALENDAR
