BEGIN:VCALENDAR
PRODID:-//eluceo/ical//2.0/EN
VERSION:2.0
CALSCALE:GREGORIAN
BEGIN:VEVENT
UID:cb1ccdf85412bea6bc8395652d52494a
DTSTAMP:20260424T090431Z
SUMMARY:Securing The Future With Endowments Webinar
DESCRIPTION:Jewish Federation of Greater Naples\nCommunity Calendar\nhttps:
 //jewishnaples.org/calendar/securing-the-future-with-endowments-webinar-16
 25758957\n\nA 1-hour informational session. Questions will be answered at 
 the end of the presentation.
DTSTART;TZID=America/New_York:20210720T120000
DTEND;TZID=America/New_York:20210720T130000
END:VEVENT
END:VCALENDAR
