BEGIN:VCALENDAR
PRODID:-//eluceo/ical//2.0/EN
VERSION:2.0
CALSCALE:GREGORIAN
BEGIN:VEVENT
UID:4323435a11b22104b0a820789b78054e
DTSTAMP:20260421T220124Z
SUMMARY:SCN Training
DESCRIPTION:Jewish Federation of Greater Naples\nCommunity Calendar\nhttps:
 //jewishnaples.org/calendar/scn-training-1734567991\n\nSCN Training for th
 e entire community.\n 
DTSTART;TZID=America/New_York:20250131T123000
DTEND;TZID=America/New_York:20250131T133000
END:VEVENT
END:VCALENDAR
