BEGIN:VCALENDAR
PRODID:-//eluceo/ical//2.0/EN
VERSION:2.0
CALSCALE:GREGORIAN
BEGIN:VEVENT
UID:711230f33562d7fe15d4d9bd9addae4d
DTSTAMP:20260423T223241Z
SUMMARY:SCN Presentation Oct 29
DESCRIPTION:Jewish Federation of Greater Naples\nCommunity Calendar\nhttps:
 //jewishnaples.org/calendar/scn-presentation-oct-29-1755025975\n\nBeing in
  public spaces and large crowds can make you more visible\, which may incr
 ease your personal risk. Factors like your appearance or behavior can draw
  unwanted attention in these settings.\n\n \n\nTo stay safe\, learn how t
 o spot potential risks and make smart choices. Being aware of your surroun
 dings and having a plan can help you stay secure in busy environments\n\n
  \n\nJoin us at 1:00 on Zoom or In Person. Please register for this free 
 event so we can plan accordingly.\n\n \n\n 
DTSTART;TZID=America/New_York:20251029T130000
DTEND;TZID=America/New_York:20251029T140000
END:VEVENT
END:VCALENDAR
