BEGIN:VCALENDAR
PRODID:-//eluceo/ical//2.0/EN
VERSION:2.0
CALSCALE:GREGORIAN
BEGIN:VEVENT
UID:91cad2c3a167dff72b489c79f442bba3
DTSTAMP:20260421T185111Z
SUMMARY:TS Scholar Series Speaker
DESCRIPTION:Jewish Federation of Greater Naples\nCommunity Calendar\nhttps:
 //jewishnaples.org/calendar/scholar-series-speaker-1608219337\n\nRabbi Gar
 y Zola\nVia Zoom
DTSTART;TZID=America/New_York:20210304T190000
DTEND;TZID=America/New_York:20210304T210000
END:VEVENT
END:VCALENDAR
