BEGIN:VCALENDAR
PRODID:-//eluceo/ical//2.0/EN
VERSION:2.0
CALSCALE:GREGORIAN
BEGIN:VEVENT
UID:d07184837cdd20b52ca307a5d4dc159e
DTSTAMP:20260422T155447Z
SUMMARY:Scholar Series Speaker
DESCRIPTION:Jewish Federation of Greater Naples\nCommunity Calendar\nhttps:
 //jewishnaples.org/calendar/scholar-series-speaker-1608217067\n\nDr. Amy-J
 ill Levine\nVia Zoom
DTSTART;TZID=America/New_York:20210218T190000
DTEND;TZID=America/New_York:20210218T210000
END:VEVENT
END:VCALENDAR
