BEGIN:VCALENDAR
PRODID:-//eluceo/ical//2.0/EN
VERSION:2.0
CALSCALE:GREGORIAN
BEGIN:VEVENT
UID:5152f56ba8ab3eb6b05dce421dcadb29
DTSTAMP:20260424T102715Z
SUMMARY:Scholar in Residence weekend
DESCRIPTION:Jewish Federation of Greater Naples\nCommunity Calendar\nhttps:
 //jewishnaples.org/calendar/scholar-in-residence-weekend-1495374513\n\nVar
 ious opportunities to hear from visiting scholar a Temple Shalom
DTSTART;TZID=America/New_York:20180126T193000
DTEND;TZID=America/New_York:20180128T120000
END:VEVENT
END:VCALENDAR
