BEGIN:VCALENDAR
PRODID:-//eluceo/ical//2.0/EN
VERSION:2.0
CALSCALE:GREGORIAN
BEGIN:VEVENT
UID:7bc5584aff1ae2fb07e2b25f12e93058
DTSTAMP:20260420T144718Z
SUMMARY:Sanitary Essentials Drive
DESCRIPTION:Jewish Federation of Greater Naples\nCommunity Calendar\nhttps:
 //jewishnaples.org/calendar/sanitary-essentials-drive-1709576824\n\n
DTSTART;TZID=America/New_York:20240403T093000
DTEND;TZID=America/New_York:20240403T113000
END:VEVENT
END:VCALENDAR
