BEGIN:VCALENDAR
PRODID:-//eluceo/ical//2.0/EN
VERSION:2.0
CALSCALE:GREGORIAN
BEGIN:VEVENT
UID:08b44ddb59e368e7e3a8b27374261e2d
DTSTAMP:20260423T052818Z
SUMMARY:S. Regional Library - Jewish History Month Book Discussion
DESCRIPTION:Jewish Federation of Greater Naples\nCommunity Calendar\nhttps:
 //jewishnaples.org/calendar/s-regional-library---jewish-history-month-book
 -discussion-1659386272\n\nBook Discussion
DTSTART;TZID=America/New_York:20230125T140000
DTEND;TZID=America/New_York:20230125T160000
END:VEVENT
END:VCALENDAR
