BEGIN:VCALENDAR
PRODID:-//eluceo/ical//2.0/EN
VERSION:2.0
CALSCALE:GREGORIAN
BEGIN:VEVENT
UID:a6094cbd2841f1d775e89268575762b9
DTSTAMP:20260424T055503Z
SUMMARY:RSVP Bone Builders Th 2025
DESCRIPTION:Jewish Federation of Greater Naples\nCommunity Calendar\nhttps:
 //jewishnaples.org/calendar/rsvp-bone-builders-th-2025-1740759375\n\nEvery
  Tuesday & Thursday from 9:30-10:30 in June and July
DTSTART;TZID=America/New_York:20250626T093000
DTEND;TZID=America/New_York:20250626T103000
END:VEVENT
END:VCALENDAR
