BEGIN:VCALENDAR
PRODID:-//eluceo/ical//2.0/EN
VERSION:2.0
CALSCALE:GREGORIAN
BEGIN:VEVENT
UID:2e790113e8918fc31dd184f819df1512
DTSTAMP:20260420T190843Z
SUMMARY:Rosh Hashanah morning service
DESCRIPTION:Jewish Federation of Greater Naples\nCommunity Calendar\nhttps:
 //jewishnaples.org/calendar/rosh-hashanah-morning-service-1495644395\n\nRo
 sh Hashanah morning service
DTSTART;TZID=America/New_York:20170921T100000
DTEND;TZID=America/New_York:20170921T130000
END:VEVENT
END:VCALENDAR
