BEGIN:VCALENDAR
PRODID:-//eluceo/ical//2.0/EN
VERSION:2.0
CALSCALE:GREGORIAN
BEGIN:VEVENT
UID:0fb6f48e2af17a6ba5b735ac6bc3f762
DTSTAMP:20260423T104111Z
SUMMARY:Rosh Hashanah Meal
DESCRIPTION:Jewish Federation of Greater Naples\nCommunity Calendar\nhttps:
 //jewishnaples.org/calendar/rosh-hashanah-meal-1566925456\n\nJOIN US FOR\n
 ROSH HASHANAH meal\nAS WE WELCOME\nTHE JEWISH NEW YEAR 5780\nL'SHANA TOVA!
 \n\n \n\nWho: Jewish singles\, family and friends are invited\n\nWhen: Mo
 nday\, September 30\, 2019\n\nWhere: Brio’s Restaurant at Waterside Shop
 s\, 5505 Tamiami Trail N.\n\nTime: Seated by 1:30 pm or following Rosh Has
 hanah Services\n\n \n\n \n\nCost: Separate checks for each individual.\n
 Complimentary Honey and Apples for a SWEET New Year\n\n \n\nReservations:
  to Ellie Cantor\nby Monday\, September 23\, 2...
DTSTART;TZID=America/New_York:20190930T133000
DTEND;TZID=America/New_York:20190930T153000
END:VEVENT
END:VCALENDAR
