BEGIN:VCALENDAR
PRODID:-//eluceo/ical//2.0/EN
VERSION:2.0
CALSCALE:GREGORIAN
BEGIN:VEVENT
UID:24bac6c7761e8a771e09a30a91d71029
DTSTAMP:20260424T091915Z
SUMMARY:ROMEO Jan 24
DESCRIPTION:Jewish Federation of Greater Naples\nCommunity Calendar\nhttps:
 //jewishnaples.org/calendar/romeo-jan-24-1693936651\n\nContact Gary Gersh 
 for more ROMEO information
DTSTART;TZID=America/New_York:20240124T120000
DTEND;TZID=America/New_York:20240124T130000
END:VEVENT
END:VCALENDAR
