BEGIN:VCALENDAR
PRODID:-//eluceo/ical//2.0/EN
VERSION:2.0
CALSCALE:GREGORIAN
BEGIN:VEVENT
UID:f88f406db36453a66fb01f3aea516379
DTSTAMP:20260423T102123Z
SUMMARY:ROMEO Jan 18
DESCRIPTION:Jewish Federation of Greater Naples\nCommunity Calendar\nhttps:
 //jewishnaples.org/calendar/romeo-jan-18-1693936837\n\nContact Gary Gersh 
 about ROMEO
DTSTART;TZID=America/New_York:20240118T180000
DTEND;TZID=America/New_York:20240118T190000
END:VEVENT
END:VCALENDAR
