BEGIN:VCALENDAR
PRODID:-//eluceo/ical//2.0/EN
VERSION:2.0
CALSCALE:GREGORIAN
BEGIN:VEVENT
UID:c6df83f31304dcd09c03a48bd4914f81
DTSTAMP:20260422T224333Z
SUMMARY:ROMEO April 17
DESCRIPTION:Jewish Federation of Greater Naples\nCommunity Calendar\nhttps:
 //jewishnaples.org/calendar/romeo-april-17-1693936796\n\nContact Gary Gers
 h for ROMEO information
DTSTART;TZID=America/New_York:20240417T120000
DTEND;TZID=America/New_York:20240417T130000
END:VEVENT
END:VCALENDAR
