BEGIN:VCALENDAR
PRODID:-//eluceo/ical//2.0/EN
VERSION:2.0
CALSCALE:GREGORIAN
BEGIN:VEVENT
UID:fff239b1417b6aee45bcc854e07f5d35
DTSTAMP:20260422T142849Z
SUMMARY:RH Family Service
DESCRIPTION:Jewish Federation of Greater Naples\nCommunity Calendar\nhttps:
 //jewishnaples.org/calendar/rh-family-service-1589993025\n\nRH Family Serv
 ice\n4630 Pine Ridge Road\, Naples\, FL 34119
DTSTART;TZID=America/New_York:20200919T143000
DTEND;TZID=America/New_York:20200919T163000
END:VEVENT
END:VCALENDAR
