BEGIN:VCALENDAR
PRODID:-//eluceo/ical//2.0/EN
VERSION:2.0
CALSCALE:GREGORIAN
BEGIN:VEVENT
UID:9ccf8f285719d754e8dd40e5138613c8
DTSTAMP:20260422T225225Z
SUMMARY:Remembering Gene Wilder Discussion
DESCRIPTION:Jewish Federation of Greater Naples\nCommunity Calendar\nhttps:
 //jewishnaples.org/calendar/remembering-gene-wilder-discussion-1717618658\
 n\nWatch REMEMBERING GENE WILDER Netflix documentary in advance.\nCome tog
 ether to discuss the documentary.\n\n\nMonday\, July 29\n10:30-11:30 am\nF
 ree Event
DTSTART;TZID=America/New_York:20240729T103000
DTEND;TZID=America/New_York:20240729T113000
END:VEVENT
END:VCALENDAR
