BEGIN:VCALENDAR
PRODID:-//eluceo/ical//2.0/EN
VERSION:2.0
CALSCALE:GREGORIAN
BEGIN:VEVENT
UID:105751538879f966ccf74da7feb41e1d
DTSTAMP:20260424T090626Z
SUMMARY:JFGN REFLEXOLOGY
DESCRIPTION:Jewish Federation of Greater Naples\nCommunity Calendar\nhttps:
 //jewishnaples.org/calendar/reflexology-1625598478\n\nPARTICIPANTS WILL LE
 ARN HOW TO RELIEVE TENSION\, ACHES AND PAINS IN THE BODY THAT START WITH T
 HE FEET! THEY WILL NEED TO BRING THEIR OWN TOWEL TO SIT ON!
DTSTART;TZID=America/New_York:20210826T160000
DTEND;TZID=America/New_York:20210826T170000
END:VEVENT
END:VCALENDAR
