BEGIN:VCALENDAR
PRODID:-//eluceo/ical//2.0/EN
VERSION:2.0
CALSCALE:GREGORIAN
BEGIN:VEVENT
UID:06dbfa114df5f5408096bed576f5420c
DTSTAMP:20260419T231622Z
SUMMARY:JFGN REFLEXOLOGY
DESCRIPTION:Jewish Federation of Greater Naples\nCommunity Calendar\nhttps:
 //jewishnaples.org/calendar/reflexology-1625596509\n\nREFLEXOLOGY-HANDS ON
  FOOT MASSAGE BASED ON STUDY OF REFLEXOLOGY
DTSTART;TZID=America/New_York:20210723T130000
DTEND;TZID=America/New_York:20210723T140000
END:VEVENT
END:VCALENDAR
