BEGIN:VCALENDAR
PRODID:-//eluceo/ical//2.0/EN
VERSION:2.0
CALSCALE:GREGORIAN
BEGIN:VEVENT
UID:cf113bc48265754d19ab32a7b9c78d09
DTSTAMP:20260423T123426Z
SUMMARY:Rabbi Mark Gross's Second-Sunday "Life-Long Learning" Presentation
DESCRIPTION:Jewish Federation of Greater Naples\nCommunity Calendar\nhttps:
 //jewishnaples.org/calendar/rabbi-mark-grosss-second-sunday-life-long-lear
 ning-presentation-1710951997\n\nRabbi Mark Gross's Second-Sunday "Life-Lon
 g Learning" Presentation
DTSTART;TZID=America/New_York:20250112T093000
DTEND;TZID=America/New_York:20250112T123000
END:VEVENT
END:VCALENDAR
