BEGIN:VCALENDAR
PRODID:-//eluceo/ical//2.0/EN
VERSION:2.0
CALSCALE:GREGORIAN
BEGIN:VEVENT
UID:4ad17945e98104eeea5f22e9883353c0
DTSTAMP:20260420T164206Z
SUMMARY:Rabbi Mark Gross’s Fourth-Sunday Life-Long Learning Series
DESCRIPTION:Jewish Federation of Greater Naples\nCommunity Calendar\nhttps:
 //jewishnaples.org/calendar/rabbi-mark-grosss-fourth-sunday-life-long-lear
 ning-series-1686331691\n\nRabbi Mark Gross’s Fourth-Sunday Life-Long Lea
 rning Series
DTSTART;TZID=America/New_York:20240121T093000
DTEND;TZID=America/New_York:20240121T113000
END:VEVENT
END:VCALENDAR
